BEGIN:VCALENDAR
VERSION:2.0
PRODID:-//Octopi Taproom - ECPv6.15.17.1//NONSGML v1.0//EN
CALSCALE:GREGORIAN
METHOD:PUBLISH
X-WR-CALNAME:Octopi Taproom
X-ORIGINAL-URL:https://drinkoctopi.com
X-WR-CALDESC:Events for Octopi Taproom
REFRESH-INTERVAL;VALUE=DURATION:PT1H
X-Robots-Tag:noindex
X-PUBLISHED-TTL:PT1H
BEGIN:VTIMEZONE
TZID:America/Chicago
BEGIN:DAYLIGHT
TZOFFSETFROM:-0600
TZOFFSETTO:-0500
TZNAME:CDT
DTSTART:20220313T080000
END:DAYLIGHT
BEGIN:STANDARD
TZOFFSETFROM:-0500
TZOFFSETTO:-0600
TZNAME:CST
DTSTART:20221106T070000
END:STANDARD
BEGIN:DAYLIGHT
TZOFFSETFROM:-0600
TZOFFSETTO:-0500
TZNAME:CDT
DTSTART:20230312T080000
END:DAYLIGHT
BEGIN:STANDARD
TZOFFSETFROM:-0500
TZOFFSETTO:-0600
TZNAME:CST
DTSTART:20231105T070000
END:STANDARD
BEGIN:DAYLIGHT
TZOFFSETFROM:-0600
TZOFFSETTO:-0500
TZNAME:CDT
DTSTART:20240310T080000
END:DAYLIGHT
BEGIN:STANDARD
TZOFFSETFROM:-0500
TZOFFSETTO:-0600
TZNAME:CST
DTSTART:20241103T070000
END:STANDARD
END:VTIMEZONE
BEGIN:VEVENT
DTSTART;TZID=America/Chicago:20230713T170000
DTEND;TZID=America/Chicago:20230713T190000
DTSTAMP:20260421T072725
CREATED:20230615T210803Z
LAST-MODIFIED:20230615T210803Z
UID:3001-1689267600-1689274800@drinkoctopi.com
SUMMARY:Obie the Octopus Children's Book Reading
DESCRIPTION:5:00 – 7:00pm – Local artists release new children’s book\, “Obie the Octopus” \nFace painting \nRaffle prizes
URL:https://drinkoctopi.com/event/obie-the-octopus-childrens-book-reading/
LOCATION:Octopi
END:VEVENT
END:VCALENDAR