BEGIN:VCALENDAR
VERSION:2.0
PRODID:-//Octopi Taproom - ECPv6.15.17.1//NONSGML v1.0//EN
CALSCALE:GREGORIAN
METHOD:PUBLISH
X-ORIGINAL-URL:https://drinkoctopi.com
X-WR-CALDESC:Events for Octopi Taproom
REFRESH-INTERVAL;VALUE=DURATION:PT1H
X-Robots-Tag:noindex
X-PUBLISHED-TTL:PT1H
BEGIN:VTIMEZONE
TZID:America/Chicago
BEGIN:DAYLIGHT
TZOFFSETFROM:-0600
TZOFFSETTO:-0500
TZNAME:CDT
DTSTART:20240310T080000
END:DAYLIGHT
BEGIN:STANDARD
TZOFFSETFROM:-0500
TZOFFSETTO:-0600
TZNAME:CST
DTSTART:20241103T070000
END:STANDARD
BEGIN:DAYLIGHT
TZOFFSETFROM:-0600
TZOFFSETTO:-0500
TZNAME:CDT
DTSTART:20250309T080000
END:DAYLIGHT
BEGIN:STANDARD
TZOFFSETFROM:-0500
TZOFFSETTO:-0600
TZNAME:CST
DTSTART:20251102T070000
END:STANDARD
BEGIN:DAYLIGHT
TZOFFSETFROM:-0600
TZOFFSETTO:-0500
TZNAME:CDT
DTSTART:20260308T080000
END:DAYLIGHT
BEGIN:STANDARD
TZOFFSETFROM:-0500
TZOFFSETTO:-0600
TZNAME:CST
DTSTART:20261101T070000
END:STANDARD
END:VTIMEZONE
BEGIN:VEVENT
DTSTART;TZID=America/Chicago:20250813T120000
DTEND;TZID=America/Chicago:20250813T190000
DTSTAMP:20260422T075124
CREATED:20250813T210254Z
LAST-MODIFIED:20250813T210254Z
UID:3466-1755086400-1755111600@drinkoctopi.com
SUMMARY:Octopi's 10 Year Anniversary Party!
DESCRIPTION:Live Music \nRaffles / Giveaways \nFace Painting \nBalloon Animals \nSpecial Beer Release \nTie-Dye Station \n 
URL:https://drinkoctopi.com/event/octopis-10-year-anniversary-party/
END:VEVENT
BEGIN:VEVENT
DTSTART;TZID=America/Chicago:20250813T173000
DTEND;TZID=America/Chicago:20250813T203000
DTSTAMP:20260422T075124
CREATED:20250813T205845Z
LAST-MODIFIED:20250813T210041Z
UID:3465-1755106200-1755117000@drinkoctopi.com
SUMMARY:Live Music - The N'achos
DESCRIPTION:
URL:https://drinkoctopi.com/event/live-music-the-nachos/
END:VEVENT
END:VCALENDAR