BEGIN:VCALENDAR
VERSION:2.0
PRODID:-//Octopi Taproom - ECPv6.15.17.1//NONSGML v1.0//EN
CALSCALE:GREGORIAN
METHOD:PUBLISH
X-WR-CALNAME:Octopi Taproom
X-ORIGINAL-URL:https://drinkoctopi.com
X-WR-CALDESC:Events for Octopi Taproom
REFRESH-INTERVAL;VALUE=DURATION:PT1H
X-Robots-Tag:noindex
X-PUBLISHED-TTL:PT1H
BEGIN:VTIMEZONE
TZID:America/Chicago
BEGIN:DAYLIGHT
TZOFFSETFROM:-0600
TZOFFSETTO:-0500
TZNAME:CDT
DTSTART:20220313T080000
END:DAYLIGHT
BEGIN:STANDARD
TZOFFSETFROM:-0500
TZOFFSETTO:-0600
TZNAME:CST
DTSTART:20221106T070000
END:STANDARD
BEGIN:DAYLIGHT
TZOFFSETFROM:-0600
TZOFFSETTO:-0500
TZNAME:CDT
DTSTART:20230312T080000
END:DAYLIGHT
BEGIN:STANDARD
TZOFFSETFROM:-0500
TZOFFSETTO:-0600
TZNAME:CST
DTSTART:20231105T070000
END:STANDARD
BEGIN:DAYLIGHT
TZOFFSETFROM:-0600
TZOFFSETTO:-0500
TZNAME:CDT
DTSTART:20240310T080000
END:DAYLIGHT
BEGIN:STANDARD
TZOFFSETFROM:-0500
TZOFFSETTO:-0600
TZNAME:CST
DTSTART:20241103T070000
END:STANDARD
END:VTIMEZONE
BEGIN:VEVENT
DTSTART;TZID=America/Chicago:20231202T180000
DTEND;TZID=America/Chicago:20231202T230000
DTSTAMP:20260423T114807
CREATED:20231130T172624Z
LAST-MODIFIED:20231130T172624Z
UID:3063-1701540000-1701558000@drinkoctopi.com
SUMMARY:Taproom Closed - Private Event @ 6:00pm
DESCRIPTION:The whole taproom is rented out for a private event starting @ 6:00pm \n 
URL:https://drinkoctopi.com/event/taproom-closed-private-event-600pm/
LOCATION:Octopi
END:VEVENT
BEGIN:VEVENT
DTSTART;TZID=America/Chicago:20231209T110000
DTEND;TZID=America/Chicago:20231209T150000
DTSTAMP:20260423T114807
CREATED:20231130T172409Z
LAST-MODIFIED:20231130T172409Z
UID:3062-1702119600-1702134000@drinkoctopi.com
SUMMARY:Back room closed from Noon - 3pm (U8 Bobcats party)
DESCRIPTION:Back room (next to kitchen) closed from 12pm – 3pm for youth hockey party
URL:https://drinkoctopi.com/event/back-room-closed-from-noon-3pm-u8-bobcats-party/
LOCATION:Octopi
END:VEVENT
BEGIN:VEVENT
DTSTART;TZID=America/Chicago:20231224T110000
DTEND;TZID=America/Chicago:20231224T220000
DTSTAMP:20260423T114807
CREATED:20231130T172725Z
LAST-MODIFIED:20231130T172931Z
UID:3064-1703415600-1703455200@drinkoctopi.com
SUMMARY:Taproom Closed for Christmas Eve
DESCRIPTION:Taproom Closed for Christmas Eve
URL:https://drinkoctopi.com/event/taproom-closed-for-christmas-eve/
END:VEVENT
END:VCALENDAR