BEGIN:VCALENDAR
VERSION:2.0
PRODID:-//Octopi Taproom - ECPv6.15.17.1//NONSGML v1.0//EN
CALSCALE:GREGORIAN
METHOD:PUBLISH
X-WR-CALNAME:Octopi Taproom
X-ORIGINAL-URL:https://drinkoctopi.com
X-WR-CALDESC:Events for Octopi Taproom
REFRESH-INTERVAL;VALUE=DURATION:PT1H
X-Robots-Tag:noindex
X-PUBLISHED-TTL:PT1H
BEGIN:VTIMEZONE
TZID:America/Chicago
BEGIN:DAYLIGHT
TZOFFSETFROM:-0600
TZOFFSETTO:-0500
TZNAME:CDT
DTSTART:20240310T080000
END:DAYLIGHT
BEGIN:STANDARD
TZOFFSETFROM:-0500
TZOFFSETTO:-0600
TZNAME:CST
DTSTART:20241103T070000
END:STANDARD
BEGIN:DAYLIGHT
TZOFFSETFROM:-0600
TZOFFSETTO:-0500
TZNAME:CDT
DTSTART:20250309T080000
END:DAYLIGHT
BEGIN:STANDARD
TZOFFSETFROM:-0500
TZOFFSETTO:-0600
TZNAME:CST
DTSTART:20251102T070000
END:STANDARD
BEGIN:DAYLIGHT
TZOFFSETFROM:-0600
TZOFFSETTO:-0500
TZNAME:CDT
DTSTART:20260308T080000
END:DAYLIGHT
BEGIN:STANDARD
TZOFFSETFROM:-0500
TZOFFSETTO:-0600
TZNAME:CST
DTSTART:20261101T070000
END:STANDARD
END:VTIMEZONE
BEGIN:VEVENT
DTSTART;TZID=America/Chicago:20250702T180000
DTEND;TZID=America/Chicago:20250702T210000
DTSTAMP:20260419T075012
CREATED:20250702T142438Z
LAST-MODIFIED:20250702T142438Z
UID:3413-1751479200-1751490000@drinkoctopi.com
SUMMARY:Live Music - Electric Spanking
DESCRIPTION:
URL:https://drinkoctopi.com/event/live-music-electric-spanking-2/
END:VEVENT
BEGIN:VEVENT
DTSTART;TZID=America/Chicago:20250703T180000
DTEND;TZID=America/Chicago:20250703T210000
DTSTAMP:20260419T075012
CREATED:20250702T143057Z
LAST-MODIFIED:20250702T143057Z
UID:3416-1751565600-1751576400@drinkoctopi.com
SUMMARY:Live Music : Tony John & The Flatland String Band
DESCRIPTION:
URL:https://drinkoctopi.com/event/live-music-tony-john-the-flatland-string-band/
END:VEVENT
BEGIN:VEVENT
DTSTART;TZID=America/Chicago:20250706T130000
DTEND;TZID=America/Chicago:20250706T160000
DTSTAMP:20260419T075012
CREATED:20250702T142802Z
LAST-MODIFIED:20250702T142802Z
UID:3415-1751806800-1751817600@drinkoctopi.com
SUMMARY:Live Music : Don't Spook The Horse
DESCRIPTION:
URL:https://drinkoctopi.com/event/live-music-dont-spook-the-horse/
END:VEVENT
BEGIN:VEVENT
DTSTART;TZID=America/Chicago:20250709T180000
DTEND;TZID=America/Chicago:20250709T210000
DTSTAMP:20260419T075012
CREATED:20250702T143201Z
LAST-MODIFIED:20250702T143201Z
UID:3418-1752084000-1752094800@drinkoctopi.com
SUMMARY:Live Music : Dane County Cologne
DESCRIPTION:
URL:https://drinkoctopi.com/event/live-music-dane-county-cologne/
END:VEVENT
BEGIN:VEVENT
DTSTART;TZID=America/Chicago:20250713T130000
DTEND;TZID=America/Chicago:20250713T160000
DTSTAMP:20260419T075012
CREATED:20250702T143353Z
LAST-MODIFIED:20250702T143353Z
UID:3420-1752411600-1752422400@drinkoctopi.com
SUMMARY:Live Music : The Radiant Beings
DESCRIPTION:
URL:https://drinkoctopi.com/event/live-music-the-radiant-beings/
END:VEVENT
BEGIN:VEVENT
DTSTART;TZID=America/Chicago:20250716T180000
DTEND;TZID=America/Chicago:20250716T210000
DTSTAMP:20260419T075012
CREATED:20250702T143439Z
LAST-MODIFIED:20250702T143439Z
UID:3421-1752688800-1752699600@drinkoctopi.com
SUMMARY:Live Music : Mudroom
DESCRIPTION:
URL:https://drinkoctopi.com/event/live-music-mudroom-2/
END:VEVENT
BEGIN:VEVENT
DTSTART;TZID=America/Chicago:20250717T180000
DTEND;TZID=America/Chicago:20250717T210000
DTSTAMP:20260419T075012
CREATED:20250702T143523Z
LAST-MODIFIED:20250702T143523Z
UID:3422-1752775200-1752786000@drinkoctopi.com
SUMMARY:Live Music : The 608
DESCRIPTION:
URL:https://drinkoctopi.com/event/live-music-the-608-2/
END:VEVENT
BEGIN:VEVENT
DTSTART;TZID=America/Chicago:20250723T180000
DTEND;TZID=America/Chicago:20250723T210000
DTSTAMP:20260419T075012
CREATED:20250710T183624Z
LAST-MODIFIED:20250710T183624Z
UID:3431-1753293600-1753304400@drinkoctopi.com
SUMMARY:Live Music : The Driftless Ramblers
DESCRIPTION:
URL:https://drinkoctopi.com/event/live-music-the-driftless-ramblers/
END:VEVENT
BEGIN:VEVENT
DTSTART;TZID=America/Chicago:20250730T180000
DTEND;TZID=America/Chicago:20250730T210000
DTSTAMP:20260419T075012
CREATED:20250729T163607Z
LAST-MODIFIED:20250729T163607Z
UID:3445-1753898400-1753909200@drinkoctopi.com
SUMMARY:Live Music - The Whiskey Farm
DESCRIPTION:
URL:https://drinkoctopi.com/event/live-music-the-whiskey-farm-2/
END:VEVENT
BEGIN:VEVENT
DTSTART;TZID=America/Chicago:20250731T173000
DTEND;TZID=America/Chicago:20250731T203000
DTSTAMP:20260419T075012
CREATED:20250729T164307Z
LAST-MODIFIED:20250729T164307Z
UID:3446-1753983000-1753993800@drinkoctopi.com
SUMMARY:Live Music - Fisch & Chips
DESCRIPTION:
URL:https://drinkoctopi.com/event/live-music-fisch-chips-2/
END:VEVENT
END:VCALENDAR